{"text_format":"3","workbook":"xlsx","n_sheets":2,"sheets":[" Personal data"," Delegation overview"],"not_rendered":{"images":1,"macros":1,"defined_names":3},"read":"whole","date_system":"1900"}

{"sheet":" Personal data","index":0,"n_rows":255,"n_cols":19,"rows_kept":255,"merged":[[0,1,2,2],[0,3,4,4],[0,13,11,13],[0,14,11,14],[0,15,11,15],[0,16,11,16],[3,1,4,2],[5,1,5,2],[5,3,5,4],[6,1,6,2],[6,3,6,4],[43,13,54,13],[43,14,54,14],[43,15,54,15],[43,16,54,16]]}
[null,"Anmeldung/Registration/Inscription/Inscripción ",{"$nulls":11},"Fleisch/Meat/Viande/Carne","Kein Schweinefleisch / No pork / Pas de porc / Sin cerdo","vegetarisch/vegetarian/végétarien/vegetariano","vegan/vegan/végétalien/vegano"]
[]
[]
[null,"IFM-SEI Camp 2025 IFM-SEI Camp 2025"]
[]
[null,"Delegationsname / Delegation name / Nom de la délégation / Nombre de la delegación",null," "]
[null," Adresse / Address / Adresse / Dirección"]
[]
[]
[null,"Betreuer*innen (auch für Delegationsleitung und Stellvertretung) / Supervisors (also for delegation leader and deputy) / Encadrants (aussi pour le chef de délégation et son adjoint) / Supervisores (también para el líder de la delegación y su suplente)"]
[null,"Personenbezogene Daten/personal data/données personnelles/datos personales",null,null,"2025-07-19",{"$nulls":4}," Adresse / Address / Adresse / Dirección"]
[null,"Nachname / Last name / Nom de famille / Apellido","Vorname / First name / Prénom /Nombre de pila","Geburtsdatum / birth date / date de naissance /fecha de nacimiento","Alter / Old / Vieux / Viejo","Abfahrtsort / Departure point / Lieu de départ / Punto de salida","Ankunftsort / Arrival point / Lieu d'arrivée / Punto de llegada ","Vorteilskartennummer / Klimaticket (Just Austrian Delegations/Uniquement les délégations autrichiennes/Sólo delegaciones austriacas)  ","Ortsgruppe / Local group / Groupe local / Grupo local","Land / Country / Pays / País","PLZ / ZIP code / Code postal / Código postal","Straße/Street/Rue/Calle","Hausnummer / House number / Numéro de maison / Número de casa",{"$nulls":4},"Spezialverpflegung / special diet / régime spécial / dieta especial  ","Spezielle Anforderungen an Barrierefreiheit / special accessibility requirements / exigences spéciales d'accessibilité / requisitos especiales de accesibilidad"]
[{"$f":"IF(B13<>\"\", COUNTIF($B$13:B13, \"<>\"), \"\")","v":""},{"$nulls":3},{"$f":"($E$11-D13)/365.25","v":{"v":125.54962354551677,"d":"125.5"}}]
[{"$f":"IF(B14<>\"\", COUNTIF($B$13:B14, \"<>\"), \"\")","v":""},{"$nulls":3},{"v":125.54962354551677,"d":"125.5"}]
[{"$f":"IF(B15<>\"\", COUNTIF($B$13:B15, \"<>\"), \"\")","v":""},{"$nulls":3},{"v":125.54962354551677,"d":"125.5"}]
[{"$f":"IF(B16<>\"\", COUNTIF($B$13:B16, \"<>\"), \"\")","v":""},{"$nulls":3},{"v":125.54962354551677,"d":"125.5"}]
[{"$f":"IF(B17<>\"\", COUNTIF($B$13:B17, \"<>\"), \"\")","v":""},{"$nulls":3},{"v":125.54962354551677,"d":"125.5"}]
[{"$f":"IF(B18<>\"\", COUNTIF($B$13:B18, \"<>\"), \"\")","v":""},{"$nulls":3},{"v":125.54962354551677,"d":"125.5"}]
[{"$f":"IF(B19<>\"\", COUNTIF($B$13:B19, \"<>\"), \"\")","v":""},{"$nulls":3},{"v":125.54962354551677,"d":"125.5"}]
[{"$f":"IF(B20<>\"\", COUNTIF($B$13:B20, \"<>\"), \"\")","v":""},{"$nulls":3},{"v":125.54962354551677,"d":"125.5"}]
[{"$f":"IF(B21<>\"\", COUNTIF($B$13:B21, \"<>\"), \"\")","v":""},{"$nulls":3},{"v":125.54962354551677,"d":"125.5"}]
[{"$f":"IF(B22<>\"\", COUNTIF($B$13:B22, \"<>\"), \"\")","v":""},{"$nulls":3},{"v":125.54962354551677,"d":"125.5"}]
[{"$f":"IF(B23<>\"\", COUNTIF($B$13:B23, \"<>\"), \"\")","v":""},{"$nulls":3},{"v":125.54962354551677,"d":"125.5"}]
[{"$f":"IF(B24<>\"\", COUNTIF($B$13:B24, \"<>\"), \"\")","v":""},{"$nulls":3},{"v":125.54962354551677,"d":"125.5"}]
[{"$f":"IF(B25<>\"\", COUNTIF($B$13:B25, \"<>\"), \"\")","v":""},{"$nulls":3},{"v":125.54962354551677,"d":"125.5"}]
[{"$f":"IF(B26<>\"\", COUNTIF($B$13:B26, \"<>\"), \"\")","v":""},{"$nulls":3},{"v":125.54962354551677,"d":"125.5"}]
[{"$f":"IF(B27<>\"\", COUNTIF($B$13:B27, \"<>\"), \"\")","v":""},{"$nulls":3},{"v":125.54962354551677,"d":"125.5"}]
[{"$f":"IF(B28<>\"\", COUNTIF($B$13:B28, \"<>\"), \"\")","v":""},{"$nulls":3},{"v":125.54962354551677,"d":"125.5"}]
[{"$f":"IF(B29<>\"\", COUNTIF($B$13:B29, \"<>\"), \"\")","v":""},{"$nulls":3},{"v":125.54962354551677,"d":"125.5"}]
[{"$f":"IF(B30<>\"\", COUNTIF($B$13:B30, \"<>\"), \"\")","v":""},{"$nulls":3},{"v":125.54962354551677,"d":"125.5"}]
[{"$f":"IF(B31<>\"\", COUNTIF($B$13:B31, \"<>\"), \"\")","v":""},{"$nulls":3},{"v":125.54962354551677,"d":"125.5"}]
[{"$f":"IF(B32<>\"\", COUNTIF($B$13:B32, \"<>\"), \"\")","v":""},{"$nulls":3},{"v":125.54962354551677,"d":"125.5"}]
[{"$f":"IF(B33<>\"\", COUNTIF($B$13:B33, \"<>\"), \"\")","v":""},{"$nulls":3},{"v":125.54962354551677,"d":"125.5"}]
[{"$f":"IF(B34<>\"\", COUNTIF($B$13:B34, \"<>\"), \"\")","v":""},{"$nulls":3},{"v":125.54962354551677,"d":"125.5"}]
[{"$f":"IF(B35<>\"\", COUNTIF($B$13:B35, \"<>\"), \"\")","v":""},{"$nulls":3},{"v":125.54962354551677,"d":"125.5"}]
[{"$f":"IF(B36<>\"\", COUNTIF($B$13:B36, \"<>\"), \"\")","v":""},{"$nulls":3},{"v":125.54962354551677,"d":"125.5"}]
[{"$f":"IF(B37<>\"\", COUNTIF($B$13:B37, \"<>\"), \"\")","v":""},{"$nulls":3},{"v":125.54962354551677,"d":"125.5"}]
[{"$f":"IF(B38<>\"\", COUNTIF($B$13:B38, \"<>\"), \"\")","v":""},{"$nulls":3},{"v":125.54962354551677,"d":"125.5"}]
[{"$f":"IF(B39<>\"\", COUNTIF($B$13:B39, \"<>\"), \"\")","v":""},{"$nulls":3},{"v":125.54962354551677,"d":"125.5"}]
[{"$f":"IF(B40<>\"\", COUNTIF($B$13:B40, \"<>\"), \"\")","v":""},{"$nulls":3},{"v":125.54962354551677,"d":"125.5"}]
[{"$f":"IF(B41<>\"\", COUNTIF($B$13:B41, \"<>\"), \"\")","v":""},{"$nulls":3},{"v":125.54962354551677,"d":"125.5"}]
[{"$f":"IF(B42<>\"\", COUNTIF($B$13:B42, \"<>\"), \"\")","v":""},{"$nulls":3},{"v":125.54962354551677,"d":"125.5"}]
[]
[{"$nulls":13},"Fleisch/Meat/Viande/Carne","Kein Schweinefleisch / No pork / Pas de porc / Sin cerdo","vegetarisch/vegetarian/végétarien/vegetariano","vegan/vegan/végétalien/vegano"]
{"$rows_empty":8}
[null,"Teilnehmer*innen / Participants / Participants / Participantes"]
[null,"Personenbezogene Daten / personal data / données personnelles / datos personales",null,null,"2025-07-19",{"$nulls":4}," Adresse / Address / Adresse / Dirección"]
[null,"Nachname / Last name / Nom de famille / Apellido","Vorname / First name / Prénom /Nombre de pila","Geburtsdatum / birth date / date de naissance /fecha de nacimiento","Alter / Old / Vieux / Viejo","Abfahrtsort / Departure point / Lieu de départ / Punto de salida","Ankunftsort / Arrival point / Lieu d'arrivée / Punto de llegada ","Vorteilskartennummer / Klimaticket (Just Austrian Delegations/Uniquement les délégations autrichiennes/Sólo delegaciones austriacas)  ","Ortsgruppe / Local group / Groupe local / Grupo local","Land / Country / Pays / País","PLZ / ZIP code / Code postal / Código postal","Straße/Street/Rue/Calle",{"$nulls":5},"Spezialverpflegung  ","Spezielle Anforderungen an Barrierefreiheit"]
[{"$f":"IF(B56<>\"\", COUNTIF($B$56:B56, \"<>\"), \"\")","v":""},{"$nulls":3},{"$f":"($E$54-D56)/365.25","v":{"v":125.54962354551677,"d":"125.5"}}]
[{"$f":"IF(B57<>\"\", COUNTIF($B$56:B57, \"<>\"), \"\")","v":""},{"$nulls":3},{"v":125.54962354551677,"d":"125.5"}]
[{"$f":"IF(B58<>\"\", COUNTIF($B$56:B58, \"<>\"), \"\")","v":""},{"$nulls":3},{"v":125.54962354551677,"d":"125.5"}]
[{"$f":"IF(B59<>\"\", COUNTIF($B$56:B59, \"<>\"), \"\")","v":""},{"$nulls":3},{"v":125.54962354551677,"d":"125.5"}]
[{"$f":"IF(B60<>\"\", COUNTIF($B$56:B60, \"<>\"), \"\")","v":""},{"$nulls":3},{"v":125.54962354551677,"d":"125.5"}]
[{"$f":"IF(B61<>\"\", COUNTIF($B$56:B61, \"<>\"), \"\")","v":""},{"$nulls":3},{"v":125.54962354551677,"d":"125.5"}]
[{"$f":"IF(B62<>\"\", COUNTIF($B$56:B62, \"<>\"), \"\")","v":""},{"$nulls":3},{"v":125.54962354551677,"d":"125.5"}]
[{"$f":"IF(B63<>\"\", COUNTIF($B$56:B63, \"<>\"), \"\")","v":""},{"$nulls":3},{"v":125.54962354551677,"d":"125.5"}]
[{"$f":"IF(B64<>\"\", COUNTIF($B$56:B64, \"<>\"), \"\")","v":""},{"$nulls":3},{"v":125.54962354551677,"d":"125.5"}]
[{"$f":"IF(B65<>\"\", COUNTIF($B$56:B65, \"<>\"), \"\")","v":""},{"$nulls":3},{"v":125.54962354551677,"d":"125.5"}]
[{"$f":"IF(B66<>\"\", COUNTIF($B$56:B66, \"<>\"), \"\")","v":""},{"$nulls":3},{"v":125.54962354551677,"d":"125.5"}]
[{"$f":"IF(B67<>\"\", COUNTIF($B$56:B67, \"<>\"), \"\")","v":""},{"$nulls":3},{"v":125.54962354551677,"d":"125.5"}]
[{"$f":"IF(B68<>\"\", COUNTIF($B$56:B68, \"<>\"), \"\")","v":""},{"$nulls":3},{"v":125.54962354551677,"d":"125.5"}]
[{"$f":"IF(B69<>\"\", COUNTIF($B$56:B69, \"<>\"), \"\")","v":""},{"$nulls":3},{"v":125.54962354551677,"d":"125.5"}]
[{"$f":"IF(B70<>\"\", COUNTIF($B$56:B70, \"<>\"), \"\")","v":""},{"$nulls":3},{"v":125.54962354551677,"d":"125.5"}]
[{"$f":"IF(B71<>\"\", COUNTIF($B$56:B71, \"<>\"), \"\")","v":""},{"$nulls":3},{"v":125.54962354551677,"d":"125.5"}]
[{"$f":"IF(B72<>\"\", COUNTIF($B$56:B72, \"<>\"), \"\")","v":""},{"$nulls":3},{"v":125.54962354551677,"d":"125.5"}]
[{"$f":"IF(B73<>\"\", COUNTIF($B$56:B73, \"<>\"), \"\")","v":""},{"$nulls":3},{"v":125.54962354551677,"d":"125.5"}]
[{"$f":"IF(B74<>\"\", COUNTIF($B$56:B74, \"<>\"), \"\")","v":""},{"$nulls":3},{"v":125.54962354551677,"d":"125.5"}]
[{"$f":"IF(B75<>\"\", COUNTIF($B$56:B75, \"<>\"), \"\")","v":""},{"$nulls":3},{"v":125.54962354551677,"d":"125.5"}]
[{"$f":"IF(B76<>\"\", COUNTIF($B$56:B76, \"<>\"), \"\")","v":""},{"$nulls":3},{"v":125.54962354551677,"d":"125.5"}]
[{"$f":"IF(B77<>\"\", COUNTIF($B$56:B77, \"<>\"), \"\")","v":""},{"$nulls":3},{"v":125.54962354551677,"d":"125.5"}]
[{"$f":"IF(B78<>\"\", COUNTIF($B$56:B78, \"<>\"), \"\")","v":""},{"$nulls":3},{"v":125.54962354551677,"d":"125.5"}]
[{"$f":"IF(B79<>\"\", COUNTIF($B$56:B79, \"<>\"), \"\")","v":""},{"$nulls":3},{"v":125.54962354551677,"d":"125.5"}]
[{"$f":"IF(B80<>\"\", COUNTIF($B$56:B80, \"<>\"), \"\")","v":""},{"$nulls":3},{"v":125.54962354551677,"d":"125.5"}]
[{"$f":"IF(B81<>\"\", COUNTIF($B$56:B81, \"<>\"), \"\")","v":""},{"$nulls":3},{"v":125.54962354551677,"d":"125.5"}]
[{"$f":"IF(B82<>\"\", COUNTIF($B$56:B82, \"<>\"), \"\")","v":""},{"$nulls":3},{"v":125.54962354551677,"d":"125.5"}]
[{"$f":"IF(B83<>\"\", COUNTIF($B$56:B83, \"<>\"), \"\")","v":""},{"$nulls":3},{"v":125.54962354551677,"d":"125.5"}]
[{"$f":"IF(B84<>\"\", COUNTIF($B$56:B84, \"<>\"), \"\")","v":""},{"$nulls":3},{"v":125.54962354551677,"d":"125.5"}]
[{"$f":"IF(B85<>\"\", COUNTIF($B$56:B85, \"<>\"), \"\")","v":""},{"$nulls":3},{"v":125.54962354551677,"d":"125.5"}]
[{"$f":"IF(B86<>\"\", COUNTIF($B$56:B86, \"<>\"), \"\")","v":""},{"$nulls":3},{"v":125.54962354551677,"d":"125.5"}]
[{"$f":"IF(B87<>\"\", COUNTIF($B$56:B87, \"<>\"), \"\")","v":""},{"$nulls":3},{"v":125.54962354551677,"d":"125.5"}]
[{"$f":"IF(B88<>\"\", COUNTIF($B$56:B88, \"<>\"), \"\")","v":""},{"$nulls":3},{"$f":"($E$54-D88)/365.25","v":{"v":125.54962354551677,"d":"125.5"}}]
[{"$f":"IF(B89<>\"\", COUNTIF($B$56:B89, \"<>\"), \"\")","v":""},{"$nulls":3},{"v":125.54962354551677,"d":"125.5"}]
[{"$f":"IF(B90<>\"\", COUNTIF($B$56:B90, \"<>\"), \"\")","v":""},{"$nulls":3},{"v":125.54962354551677,"d":"125.5"}]
[{"$f":"IF(B91<>\"\", COUNTIF($B$56:B91, \"<>\"), \"\")","v":""},{"$nulls":3},{"v":125.54962354551677,"d":"125.5"}]
[{"$f":"IF(B92<>\"\", COUNTIF($B$56:B92, \"<>\"), \"\")","v":""},{"$nulls":3},{"v":125.54962354551677,"d":"125.5"}]
[{"$f":"IF(B93<>\"\", COUNTIF($B$56:B93, \"<>\"), \"\")","v":""},{"$nulls":3},{"v":125.54962354551677,"d":"125.5"}]
[{"$f":"IF(B94<>\"\", COUNTIF($B$56:B94, \"<>\"), \"\")","v":""},{"$nulls":3},{"v":125.54962354551677,"d":"125.5"}]
[{"$f":"IF(B95<>\"\", COUNTIF($B$56:B95, \"<>\"), \"\")","v":""},{"$nulls":3},{"v":125.54962354551677,"d":"125.5"}]
[{"$f":"IF(B96<>\"\", COUNTIF($B$56:B96, \"<>\"), \"\")","v":""},{"$nulls":3},{"v":125.54962354551677,"d":"125.5"}]
[{"$f":"IF(B97<>\"\", COUNTIF($B$56:B97, \"<>\"), \"\")","v":""},{"$nulls":3},{"v":125.54962354551677,"d":"125.5"}]
[{"$f":"IF(B98<>\"\", COUNTIF($B$56:B98, \"<>\"), \"\")","v":""},{"$nulls":3},{"v":125.54962354551677,"d":"125.5"}]
[{"$f":"IF(B99<>\"\", COUNTIF($B$56:B99, \"<>\"), \"\")","v":""},{"$nulls":3},{"v":125.54962354551677,"d":"125.5"}]
[{"$f":"IF(B100<>\"\", COUNTIF($B$56:B100, \"<>\"), \"\")","v":""},{"$nulls":3},{"v":125.54962354551677,"d":"125.5"}]
[{"$f":"IF(B101<>\"\", COUNTIF($B$56:B101, \"<>\"), \"\")","v":""},{"$nulls":3},{"v":125.54962354551677,"d":"125.5"}]
[{"$f":"IF(B102<>\"\", COUNTIF($B$56:B102, \"<>\"), \"\")","v":""},{"$nulls":3},{"v":125.54962354551677,"d":"125.5"}]
[{"$f":"IF(B103<>\"\", COUNTIF($B$56:B103, \"<>\"), \"\")","v":""},{"$nulls":3},{"v":125.54962354551677,"d":"125.5"}]
[{"$f":"IF(B104<>\"\", COUNTIF($B$56:B104, \"<>\"), \"\")","v":""},{"$nulls":3},{"v":125.54962354551677,"d":"125.5"}]
[{"$f":"IF(B105<>\"\", COUNTIF($B$56:B105, \"<>\"), \"\")","v":""},{"$nulls":3},{"v":125.54962354551677,"d":"125.5"}]
[{"$f":"IF(B106<>\"\", COUNTIF($B$56:B106, \"<>\"), \"\")","v":""},{"$nulls":3},{"v":125.54962354551677,"d":"125.5"}]
[{"$f":"IF(B107<>\"\", COUNTIF($B$56:B107, \"<>\"), \"\")","v":""},{"$nulls":3},{"v":125.54962354551677,"d":"125.5"}]
[{"$f":"IF(B108<>\"\", COUNTIF($B$56:B108, \"<>\"), \"\")","v":""},{"$nulls":3},{"v":125.54962354551677,"d":"125.5"}]
[{"$f":"IF(B109<>\"\", COUNTIF($B$56:B109, \"<>\"), \"\")","v":""},{"$nulls":3},{"v":125.54962354551677,"d":"125.5"}]
[{"$f":"IF(B110<>\"\", COUNTIF($B$56:B110, \"<>\"), \"\")","v":""},{"$nulls":3},{"v":125.54962354551677,"d":"125.5"}]
[{"$f":"IF(B111<>\"\", COUNTIF($B$56:B111, \"<>\"), \"\")","v":""},{"$nulls":3},{"v":125.54962354551677,"d":"125.5"}]
[{"$f":"IF(B112<>\"\", COUNTIF($B$56:B112, \"<>\"), \"\")","v":""},{"$nulls":3},{"v":125.54962354551677,"d":"125.5"}]
[{"$f":"IF(B113<>\"\", COUNTIF($B$56:B113, \"<>\"), \"\")","v":""},{"$nulls":3},{"v":125.54962354551677,"d":"125.5"}]
[{"$f":"IF(B114<>\"\", COUNTIF($B$56:B114, \"<>\"), \"\")","v":""},{"$nulls":3},{"v":125.54962354551677,"d":"125.5"}]
[{"$f":"IF(B115<>\"\", COUNTIF($B$56:B115, \"<>\"), \"\")","v":""},{"$nulls":3},{"v":125.54962354551677,"d":"125.5"}]
[{"$f":"IF(B116<>\"\", COUNTIF($B$56:B116, \"<>\"), \"\")","v":""},{"$nulls":3},{"v":125.54962354551677,"d":"125.5"}]
[{"$f":"IF(B117<>\"\", COUNTIF($B$56:B117, \"<>\"), \"\")","v":""},{"$nulls":3},{"v":125.54962354551677,"d":"125.5"}]
[{"$f":"IF(B118<>\"\", COUNTIF($B$56:B118, \"<>\"), \"\")","v":""},{"$nulls":3},{"v":125.54962354551677,"d":"125.5"}]
[{"$f":"IF(B119<>\"\", COUNTIF($B$56:B119, \"<>\"), \"\")","v":""},{"$nulls":3},{"v":125.54962354551677,"d":"125.5"}]
[{"$f":"IF(B120<>\"\", COUNTIF($B$56:B120, \"<>\"), \"\")","v":""},{"$nulls":3},{"$f":"($E$54-D120)/365.25","v":{"v":125.54962354551677,"d":"125.5"}}]
[{"$f":"IF(B121<>\"\", COUNTIF($B$56:B121, \"<>\"), \"\")","v":""},{"$nulls":3},{"v":125.54962354551677,"d":"125.5"}]
[{"$f":"IF(B122<>\"\", COUNTIF($B$56:B122, \"<>\"), \"\")","v":""},{"$nulls":3},{"v":125.54962354551677,"d":"125.5"}]
[{"$f":"IF(B123<>\"\", COUNTIF($B$56:B123, \"<>\"), \"\")","v":""},{"$nulls":3},{"v":125.54962354551677,"d":"125.5"}]
[{"$f":"IF(B124<>\"\", COUNTIF($B$56:B124, \"<>\"), \"\")","v":""},{"$nulls":3},{"v":125.54962354551677,"d":"125.5"}]
[{"$f":"IF(B125<>\"\", COUNTIF($B$56:B125, \"<>\"), \"\")","v":""},{"$nulls":3},{"v":125.54962354551677,"d":"125.5"}]
[{"$f":"IF(B126<>\"\", COUNTIF($B$56:B126, \"<>\"), \"\")","v":""},{"$nulls":3},{"v":125.54962354551677,"d":"125.5"}]
[{"$f":"IF(B127<>\"\", COUNTIF($B$56:B127, \"<>\"), \"\")","v":""},{"$nulls":3},{"v":125.54962354551677,"d":"125.5"}]
[{"$f":"IF(B128<>\"\", COUNTIF($B$56:B128, \"<>\"), \"\")","v":""},{"$nulls":3},{"v":125.54962354551677,"d":"125.5"}]
[{"$f":"IF(B129<>\"\", COUNTIF($B$56:B129, \"<>\"), \"\")","v":""},{"$nulls":3},{"v":125.54962354551677,"d":"125.5"}]
[{"$f":"IF(B130<>\"\", COUNTIF($B$56:B130, \"<>\"), \"\")","v":""},{"$nulls":3},{"v":125.54962354551677,"d":"125.5"}]
[{"$f":"IF(B131<>\"\", COUNTIF($B$56:B131, \"<>\"), \"\")","v":""},{"$nulls":3},{"v":125.54962354551677,"d":"125.5"}]
[{"$f":"IF(B132<>\"\", COUNTIF($B$56:B132, \"<>\"), \"\")","v":""},{"$nulls":3},{"v":125.54962354551677,"d":"125.5"}]
[{"$f":"IF(B133<>\"\", COUNTIF($B$56:B133, \"<>\"), \"\")","v":""},{"$nulls":3},{"v":125.54962354551677,"d":"125.5"}]
[{"$f":"IF(B134<>\"\", COUNTIF($B$56:B134, \"<>\"), \"\")","v":""},{"$nulls":3},{"v":125.54962354551677,"d":"125.5"}]
[{"$f":"IF(B135<>\"\", COUNTIF($B$56:B135, \"<>\"), \"\")","v":""},{"$nulls":3},{"v":125.54962354551677,"d":"125.5"}]
[{"$f":"IF(B136<>\"\", COUNTIF($B$56:B136, \"<>\"), \"\")","v":""},{"$nulls":3},{"v":125.54962354551677,"d":"125.5"}]
[{"$f":"IF(B137<>\"\", COUNTIF($B$56:B137, \"<>\"), \"\")","v":""},{"$nulls":3},{"v":125.54962354551677,"d":"125.5"}]
[{"$f":"IF(B138<>\"\", COUNTIF($B$56:B138, \"<>\"), \"\")","v":""},{"$nulls":3},{"v":125.54962354551677,"d":"125.5"}]
[{"$f":"IF(B139<>\"\", COUNTIF($B$56:B139, \"<>\"), \"\")","v":""},{"$nulls":3},{"v":125.54962354551677,"d":"125.5"}]
[{"$f":"IF(B140<>\"\", COUNTIF($B$56:B140, \"<>\"), \"\")","v":""},{"$nulls":3},{"v":125.54962354551677,"d":"125.5"}]
[{"$f":"IF(B141<>\"\", COUNTIF($B$56:B141, \"<>\"), \"\")","v":""},{"$nulls":3},{"v":125.54962354551677,"d":"125.5"}]
[{"$f":"IF(B142<>\"\", COUNTIF($B$56:B142, \"<>\"), \"\")","v":""},{"$nulls":3},{"v":125.54962354551677,"d":"125.5"}]
[{"$f":"IF(B143<>\"\", COUNTIF($B$56:B143, \"<>\"), \"\")","v":""},{"$nulls":3},{"v":125.54962354551677,"d":"125.5"}]
[{"$f":"IF(B144<>\"\", COUNTIF($B$56:B144, \"<>\"), \"\")","v":""},{"$nulls":3},{"v":125.54962354551677,"d":"125.5"}]
[{"$f":"IF(B145<>\"\", COUNTIF($B$56:B145, \"<>\"), \"\")","v":""},{"$nulls":3},{"v":125.54962354551677,"d":"125.5"}]
[{"$f":"IF(B146<>\"\", COUNTIF($B$56:B146, \"<>\"), \"\")","v":""},{"$nulls":3},{"v":125.54962354551677,"d":"125.5"}]
[{"$f":"IF(B147<>\"\", COUNTIF($B$56:B147, \"<>\"), \"\")","v":""},{"$nulls":3},{"v":125.54962354551677,"d":"125.5"}]
[{"$f":"IF(B148<>\"\", COUNTIF($B$56:B148, \"<>\"), \"\")","v":""},{"$nulls":3},{"v":125.54962354551677,"d":"125.5"}]
[{"$f":"IF(B149<>\"\", COUNTIF($B$56:B149, \"<>\"), \"\")","v":""},{"$nulls":3},{"v":125.54962354551677,"d":"125.5"}]
[{"$f":"IF(B150<>\"\", COUNTIF($B$56:B150, \"<>\"), \"\")","v":""},{"$nulls":3},{"v":125.54962354551677,"d":"125.5"}]
[{"$f":"IF(B151<>\"\", COUNTIF($B$56:B151, \"<>\"), \"\")","v":""},{"$nulls":3},{"v":125.54962354551677,"d":"125.5"}]
[{"$f":"IF(B152<>\"\", COUNTIF($B$56:B152, \"<>\"), \"\")","v":""},{"$nulls":3},{"$f":"($E$54-D152)/365.25","v":{"v":125.54962354551677,"d":"125.5"}}]
[{"$f":"IF(B153<>\"\", COUNTIF($B$56:B153, \"<>\"), \"\")","v":""},{"$nulls":3},{"v":125.54962354551677,"d":"125.5"}]
[{"$f":"IF(B154<>\"\", COUNTIF($B$56:B154, \"<>\"), \"\")","v":""},{"$nulls":3},{"v":125.54962354551677,"d":"125.5"}]
[{"$f":"IF(B155<>\"\", COUNTIF($B$56:B155, \"<>\"), \"\")","v":""},{"$nulls":3},{"v":125.54962354551677,"d":"125.5"}]
[{"$f":"IF(B156<>\"\", COUNTIF($B$56:B156, \"<>\"), \"\")","v":""},{"$nulls":3},{"v":125.54962354551677,"d":"125.5"}]
[{"$f":"IF(B157<>\"\", COUNTIF($B$56:B157, \"<>\"), \"\")","v":""},{"$nulls":3},{"v":125.54962354551677,"d":"125.5"}]
[{"$f":"IF(B158<>\"\", COUNTIF($B$56:B158, \"<>\"), \"\")","v":""},{"$nulls":3},{"v":125.54962354551677,"d":"125.5"}]
[{"$f":"IF(B159<>\"\", COUNTIF($B$56:B159, \"<>\"), \"\")","v":""},{"$nulls":3},{"v":125.54962354551677,"d":"125.5"}]
[{"$f":"IF(B160<>\"\", COUNTIF($B$56:B160, \"<>\"), \"\")","v":""},{"$nulls":3},{"v":125.54962354551677,"d":"125.5"}]
[{"$f":"IF(B161<>\"\", COUNTIF($B$56:B161, \"<>\"), \"\")","v":""},{"$nulls":3},{"v":125.54962354551677,"d":"125.5"}]
[{"$f":"IF(B162<>\"\", COUNTIF($B$56:B162, \"<>\"), \"\")","v":""},{"$nulls":3},{"v":125.54962354551677,"d":"125.5"}]
[{"$f":"IF(B163<>\"\", COUNTIF($B$56:B163, \"<>\"), \"\")","v":""},{"$nulls":3},{"v":125.54962354551677,"d":"125.5"}]
[{"$f":"IF(B164<>\"\", COUNTIF($B$56:B164, \"<>\"), \"\")","v":""},{"$nulls":3},{"v":125.54962354551677,"d":"125.5"}]
[{"$f":"IF(B165<>\"\", COUNTIF($B$56:B165, \"<>\"), \"\")","v":""},{"$nulls":3},{"v":125.54962354551677,"d":"125.5"}]
[{"$f":"IF(B166<>\"\", COUNTIF($B$56:B166, \"<>\"), \"\")","v":""},{"$nulls":3},{"v":125.54962354551677,"d":"125.5"}]
[{"$f":"IF(B167<>\"\", COUNTIF($B$56:B167, \"<>\"), \"\")","v":""},{"$nulls":3},{"v":125.54962354551677,"d":"125.5"}]
[{"$f":"IF(B168<>\"\", COUNTIF($B$56:B168, \"<>\"), \"\")","v":""},{"$nulls":3},{"v":125.54962354551677,"d":"125.5"}]
[{"$f":"IF(B169<>\"\", COUNTIF($B$56:B169, \"<>\"), \"\")","v":""},{"$nulls":3},{"v":125.54962354551677,"d":"125.5"}]
[{"$f":"IF(B170<>\"\", COUNTIF($B$56:B170, \"<>\"), \"\")","v":""},{"$nulls":3},{"v":125.54962354551677,"d":"125.5"}]
[{"$f":"IF(B171<>\"\", COUNTIF($B$56:B171, \"<>\"), \"\")","v":""},{"$nulls":3},{"v":125.54962354551677,"d":"125.5"}]
[{"$f":"IF(B172<>\"\", COUNTIF($B$56:B172, \"<>\"), \"\")","v":""},{"$nulls":3},{"v":125.54962354551677,"d":"125.5"}]
[{"$f":"IF(B173<>\"\", COUNTIF($B$56:B173, \"<>\"), \"\")","v":""},{"$nulls":3},{"v":125.54962354551677,"d":"125.5"}]
[{"$f":"IF(B174<>\"\", COUNTIF($B$56:B174, \"<>\"), \"\")","v":""},{"$nulls":3},{"v":125.54962354551677,"d":"125.5"}]
[{"$f":"IF(B175<>\"\", COUNTIF($B$56:B175, \"<>\"), \"\")","v":""},{"$nulls":3},{"v":125.54962354551677,"d":"125.5"}]
[{"$f":"IF(B176<>\"\", COUNTIF($B$56:B176, \"<>\"), \"\")","v":""},{"$nulls":3},{"v":125.54962354551677,"d":"125.5"}]
[{"$f":"IF(B177<>\"\", COUNTIF($B$56:B177, \"<>\"), \"\")","v":""},{"$nulls":3},{"v":125.54962354551677,"d":"125.5"}]
[{"$f":"IF(B178<>\"\", COUNTIF($B$56:B178, \"<>\"), \"\")","v":""},{"$nulls":3},{"v":125.54962354551677,"d":"125.5"}]
[{"$f":"IF(B179<>\"\", COUNTIF($B$56:B179, \"<>\"), \"\")","v":""},{"$nulls":3},{"v":125.54962354551677,"d":"125.5"}]
[{"$f":"IF(B180<>\"\", COUNTIF($B$56:B180, \"<>\"), \"\")","v":""},{"$nulls":3},{"v":125.54962354551677,"d":"125.5"}]
[{"$f":"IF(B181<>\"\", COUNTIF($B$56:B181, \"<>\"), \"\")","v":""},{"$nulls":3},{"v":125.54962354551677,"d":"125.5"}]
[{"$f":"IF(B182<>\"\", COUNTIF($B$56:B182, \"<>\"), \"\")","v":""},{"$nulls":3},{"v":125.54962354551677,"d":"125.5"}]
[{"$f":"IF(B183<>\"\", COUNTIF($B$56:B183, \"<>\"), \"\")","v":""},{"$nulls":3},{"v":125.54962354551677,"d":"125.5"}]
[{"$f":"IF(B184<>\"\", COUNTIF($B$56:B184, \"<>\"), \"\")","v":""},{"$nulls":3},{"$f":"($E$54-D184)/365.25","v":{"v":125.54962354551677,"d":"125.5"}}]
[{"$f":"IF(B185<>\"\", COUNTIF($B$56:B185, \"<>\"), \"\")","v":""},{"$nulls":3},{"v":125.54962354551677,"d":"125.5"}]
[{"$f":"IF(B186<>\"\", COUNTIF($B$56:B186, \"<>\"), \"\")","v":""},{"$nulls":3},{"v":125.54962354551677,"d":"125.5"}]
[{"$f":"IF(B187<>\"\", COUNTIF($B$56:B187, \"<>\"), \"\")","v":""},{"$nulls":3},{"v":125.54962354551677,"d":"125.5"}]
[{"$f":"IF(B188<>\"\", COUNTIF($B$56:B188, \"<>\"), \"\")","v":""},{"$nulls":3},{"v":125.54962354551677,"d":"125.5"}]
[{"$f":"IF(B189<>\"\", COUNTIF($B$56:B189, \"<>\"), \"\")","v":""},{"$nulls":3},{"v":125.54962354551677,"d":"125.5"}]
[{"$f":"IF(B190<>\"\", COUNTIF($B$56:B190, \"<>\"), \"\")","v":""},{"$nulls":3},{"v":125.54962354551677,"d":"125.5"}]
[{"$f":"IF(B191<>\"\", COUNTIF($B$56:B191, \"<>\"), \"\")","v":""},{"$nulls":3},{"v":125.54962354551677,"d":"125.5"}]
[{"$f":"IF(B192<>\"\", COUNTIF($B$56:B192, \"<>\"), \"\")","v":""},{"$nulls":3},{"v":125.54962354551677,"d":"125.5"}]
[{"$f":"IF(B193<>\"\", COUNTIF($B$56:B193, \"<>\"), \"\")","v":""},{"$nulls":3},{"v":125.54962354551677,"d":"125.5"}]
[{"$f":"IF(B194<>\"\", COUNTIF($B$56:B194, \"<>\"), \"\")","v":""},{"$nulls":3},{"v":125.54962354551677,"d":"125.5"}]
[{"$f":"IF(B195<>\"\", COUNTIF($B$56:B195, \"<>\"), \"\")","v":""},{"$nulls":3},{"v":125.54962354551677,"d":"125.5"}]
[{"$f":"IF(B196<>\"\", COUNTIF($B$56:B196, \"<>\"), \"\")","v":""},{"$nulls":3},{"v":125.54962354551677,"d":"125.5"}]
[{"$f":"IF(B197<>\"\", COUNTIF($B$56:B197, \"<>\"), \"\")","v":""},{"$nulls":3},{"v":125.54962354551677,"d":"125.5"}]
[{"$f":"IF(B198<>\"\", COUNTIF($B$56:B198, \"<>\"), \"\")","v":""},{"$nulls":3},{"v":125.54962354551677,"d":"125.5"}]
[{"$f":"IF(B199<>\"\", COUNTIF($B$56:B199, \"<>\"), \"\")","v":""},{"$nulls":3},{"v":125.54962354551677,"d":"125.5"}]
[{"$f":"IF(B200<>\"\", COUNTIF($B$56:B200, \"<>\"), \"\")","v":""},{"$nulls":3},{"v":125.54962354551677,"d":"125.5"}]
[{"$f":"IF(B201<>\"\", COUNTIF($B$56:B201, \"<>\"), \"\")","v":""},{"$nulls":3},{"v":125.54962354551677,"d":"125.5"}]
[{"$f":"IF(B202<>\"\", COUNTIF($B$56:B202, \"<>\"), \"\")","v":""},{"$nulls":3},{"v":125.54962354551677,"d":"125.5"}]
[{"$f":"IF(B203<>\"\", COUNTIF($B$56:B203, \"<>\"), \"\")","v":""},{"$nulls":3},{"v":125.54962354551677,"d":"125.5"}]
[{"$f":"IF(B204<>\"\", COUNTIF($B$56:B204, \"<>\"), \"\")","v":""},{"$nulls":3},{"v":125.54962354551677,"d":"125.5"}]
[{"$f":"IF(B205<>\"\", COUNTIF($B$56:B205, \"<>\"), \"\")","v":""},{"$nulls":3},{"v":125.54962354551677,"d":"125.5"}]
[{"$f":"IF(B206<>\"\", COUNTIF($B$56:B206, \"<>\"), \"\")","v":""},{"$nulls":3},{"v":125.54962354551677,"d":"125.5"}]
[{"$f":"IF(B207<>\"\", COUNTIF($B$56:B207, \"<>\"), \"\")","v":""},{"$nulls":3},{"v":125.54962354551677,"d":"125.5"}]
[{"$f":"IF(B208<>\"\", COUNTIF($B$56:B208, \"<>\"), \"\")","v":""},{"$nulls":3},{"v":125.54962354551677,"d":"125.5"}]
[{"$f":"IF(B209<>\"\", COUNTIF($B$56:B209, \"<>\"), \"\")","v":""},{"$nulls":3},{"v":125.54962354551677,"d":"125.5"}]
[{"$f":"IF(B210<>\"\", COUNTIF($B$56:B210, \"<>\"), \"\")","v":""},{"$nulls":3},{"v":125.54962354551677,"d":"125.5"}]
[{"$f":"IF(B211<>\"\", COUNTIF($B$56:B211, \"<>\"), \"\")","v":""},{"$nulls":3},{"v":125.54962354551677,"d":"125.5"}]
[{"$f":"IF(B212<>\"\", COUNTIF($B$56:B212, \"<>\"), \"\")","v":""},{"$nulls":3},{"v":125.54962354551677,"d":"125.5"}]
[{"$f":"IF(B213<>\"\", COUNTIF($B$56:B213, \"<>\"), \"\")","v":""},{"$nulls":3},{"v":125.54962354551677,"d":"125.5"}]
[{"$f":"IF(B214<>\"\", COUNTIF($B$56:B214, \"<>\"), \"\")","v":""},{"$nulls":3},{"v":125.54962354551677,"d":"125.5"}]
[{"$f":"IF(B215<>\"\", COUNTIF($B$56:B215, \"<>\"), \"\")","v":""},{"$nulls":3},{"v":125.54962354551677,"d":"125.5"}]
[{"$f":"IF(B216<>\"\", COUNTIF($B$56:B216, \"<>\"), \"\")","v":""},{"$nulls":3},{"$f":"($E$54-D216)/365.25","v":{"v":125.54962354551677,"d":"125.5"}}]
[{"$f":"IF(B217<>\"\", COUNTIF($B$56:B217, \"<>\"), \"\")","v":""},{"$nulls":3},{"v":125.54962354551677,"d":"125.5"}]
[{"$f":"IF(B218<>\"\", COUNTIF($B$56:B218, \"<>\"), \"\")","v":""},{"$nulls":3},{"v":125.54962354551677,"d":"125.5"}]
[{"$f":"IF(B219<>\"\", COUNTIF($B$56:B219, \"<>\"), \"\")","v":""},{"$nulls":3},{"v":125.54962354551677,"d":"125.5"}]
[{"$f":"IF(B220<>\"\", COUNTIF($B$56:B220, \"<>\"), \"\")","v":""},{"$nulls":3},{"v":125.54962354551677,"d":"125.5"}]
[{"$f":"IF(B221<>\"\", COUNTIF($B$56:B221, \"<>\"), \"\")","v":""},{"$nulls":3},{"v":125.54962354551677,"d":"125.5"}]
[{"$f":"IF(B222<>\"\", COUNTIF($B$56:B222, \"<>\"), \"\")","v":""},{"$nulls":3},{"v":125.54962354551677,"d":"125.5"}]
[{"$f":"IF(B223<>\"\", COUNTIF($B$56:B223, \"<>\"), \"\")","v":""},{"$nulls":3},{"v":125.54962354551677,"d":"125.5"}]
[{"$f":"IF(B224<>\"\", COUNTIF($B$56:B224, \"<>\"), \"\")","v":""},{"$nulls":3},{"v":125.54962354551677,"d":"125.5"}]
[{"$f":"IF(B225<>\"\", COUNTIF($B$56:B225, \"<>\"), \"\")","v":""},{"$nulls":3},{"v":125.54962354551677,"d":"125.5"}]
[{"$f":"IF(B226<>\"\", COUNTIF($B$56:B226, \"<>\"), \"\")","v":""},{"$nulls":3},{"v":125.54962354551677,"d":"125.5"}]
[{"$f":"IF(B227<>\"\", COUNTIF($B$56:B227, \"<>\"), \"\")","v":""},{"$nulls":3},{"v":125.54962354551677,"d":"125.5"}]
[{"$f":"IF(B228<>\"\", COUNTIF($B$56:B228, \"<>\"), \"\")","v":""},{"$nulls":3},{"v":125.54962354551677,"d":"125.5"}]
[{"$f":"IF(B229<>\"\", COUNTIF($B$56:B229, \"<>\"), \"\")","v":""},{"$nulls":3},{"v":125.54962354551677,"d":"125.5"}]
[{"$f":"IF(B230<>\"\", COUNTIF($B$56:B230, \"<>\"), \"\")","v":""},{"$nulls":3},{"v":125.54962354551677,"d":"125.5"}]
[{"$f":"IF(B231<>\"\", COUNTIF($B$56:B231, \"<>\"), \"\")","v":""},{"$nulls":3},{"v":125.54962354551677,"d":"125.5"}]
[{"$f":"IF(B232<>\"\", COUNTIF($B$56:B232, \"<>\"), \"\")","v":""},{"$nulls":3},{"v":125.54962354551677,"d":"125.5"}]
[{"$f":"IF(B233<>\"\", COUNTIF($B$56:B233, \"<>\"), \"\")","v":""},{"$nulls":3},{"v":125.54962354551677,"d":"125.5"}]
[{"$f":"IF(B234<>\"\", COUNTIF($B$56:B234, \"<>\"), \"\")","v":""},{"$nulls":3},{"v":125.54962354551677,"d":"125.5"}]
[{"$f":"IF(B235<>\"\", COUNTIF($B$56:B235, \"<>\"), \"\")","v":""},{"$nulls":3},{"v":125.54962354551677,"d":"125.5"}]
[{"$f":"IF(B236<>\"\", COUNTIF($B$56:B236, \"<>\"), \"\")","v":""},{"$nulls":3},{"v":125.54962354551677,"d":"125.5"}]
[{"$f":"IF(B237<>\"\", COUNTIF($B$56:B237, \"<>\"), \"\")","v":""},{"$nulls":3},{"v":125.54962354551677,"d":"125.5"}]
[{"$f":"IF(B238<>\"\", COUNTIF($B$56:B238, \"<>\"), \"\")","v":""},{"$nulls":3},{"v":125.54962354551677,"d":"125.5"}]
[{"$f":"IF(B239<>\"\", COUNTIF($B$56:B239, \"<>\"), \"\")","v":""},{"$nulls":3},{"v":125.54962354551677,"d":"125.5"}]
[{"$f":"IF(B240<>\"\", COUNTIF($B$56:B240, \"<>\"), \"\")","v":""},{"$nulls":3},{"v":125.54962354551677,"d":"125.5"}]
[{"$f":"IF(B241<>\"\", COUNTIF($B$56:B241, \"<>\"), \"\")","v":""},{"$nulls":3},{"v":125.54962354551677,"d":"125.5"}]
[{"$f":"IF(B242<>\"\", COUNTIF($B$56:B242, \"<>\"), \"\")","v":""},{"$nulls":3},{"v":125.54962354551677,"d":"125.5"}]
[{"$f":"IF(B243<>\"\", COUNTIF($B$56:B243, \"<>\"), \"\")","v":""},{"$nulls":3},{"v":125.54962354551677,"d":"125.5"}]
[{"$f":"IF(B244<>\"\", COUNTIF($B$56:B244, \"<>\"), \"\")","v":""},{"$nulls":3},{"v":125.54962354551677,"d":"125.5"}]
[{"$f":"IF(B245<>\"\", COUNTIF($B$56:B245, \"<>\"), \"\")","v":""},{"$nulls":3},{"v":125.54962354551677,"d":"125.5"}]
[{"$f":"IF(B246<>\"\", COUNTIF($B$56:B246, \"<>\"), \"\")","v":""},{"$nulls":3},{"v":125.54962354551677,"d":"125.5"}]
[{"$f":"IF(B247<>\"\", COUNTIF($B$56:B247, \"<>\"), \"\")","v":""},{"$nulls":3},{"v":125.54962354551677,"d":"125.5"}]
[{"$f":"IF(B248<>\"\", COUNTIF($B$56:B248, \"<>\"), \"\")","v":""},{"$nulls":3},{"$f":"($E$54-D248)/365.25","v":{"v":125.54962354551677,"d":"125.5"}}]
[{"$f":"IF(B249<>\"\", COUNTIF($B$56:B249, \"<>\"), \"\")","v":""},{"$nulls":3},{"v":125.54962354551677,"d":"125.5"}]
[{"$f":"IF(B250<>\"\", COUNTIF($B$56:B250, \"<>\"), \"\")","v":""},{"$nulls":3},{"v":125.54962354551677,"d":"125.5"}]
[{"$f":"IF(B251<>\"\", COUNTIF($B$56:B251, \"<>\"), \"\")","v":""},{"$nulls":3},{"v":125.54962354551677,"d":"125.5"}]
[{"$f":"IF(B252<>\"\", COUNTIF($B$56:B252, \"<>\"), \"\")","v":""},{"$nulls":3},{"v":125.54962354551677,"d":"125.5"}]
[{"$f":"IF(B253<>\"\", COUNTIF($B$56:B253, \"<>\"), \"\")","v":""},{"$nulls":3},{"v":125.54962354551677,"d":"125.5"}]
[{"$f":"IF(B254<>\"\", COUNTIF($B$56:B254, \"<>\"), \"\")","v":""},{"$nulls":3},{"v":125.54962354551677,"d":"125.5"}]
[{"$f":"IF(B255<>\"\", COUNTIF($B$56:B255, \"<>\"), \"\")","v":""},{"$nulls":3},{"v":125.54962354551677,"d":"125.5"}]

{"sheet":" Delegation overview","index":1,"n_rows":27,"n_cols":5,"rows_kept":27,"merged":[[0,0,1,0],[0,3,3,4],[2,0,3,0]]}
["Anmeldung/Registration/Inscription/Inscripción "]
[]
["IFM-SEI Camp 2025 IFM-SEI Camp 2025"]
[]
["Delegationsname / Delegation name / Nom de la délégation / Nombre de la delegación: ",{"$f":"' Personal data'!D6:E6","v":" "},0]
[" Adresse / Address / Adresse / Dirección:",{"$f":"' Personal data'!D7:E7","v":0},0]
[]
["Betreuer*innen gesamt/Total supervisors/Total des encadrants/Total de supervisores:",{"$f":"COUNTA(' Personal data'!B13:B42)","v":0}]
["Teilnehmer*innen gesamt/Total participants/Total des participants/Total de participantes:",{"$f":"COUNTA(' Personal data'!B56:B255)","v":0}]
["Summe / Total / Somme / Total ",{"$f":"SUM(B8:B8)","v":0}]
[]
[null," Nachname / Last name / Nom de famille / Apellido","Vorname / First name / Prénom / Nombre  ","Telefon / Phone / Téléphone / Teléfono","Email"]
["Delegationsleitung / Delegation leader / Chef de délégation / Líder de delegación:"]
["Stv. Delegationsleitung / Deputy delegation leader / Adjoint au chef de délégation / Subjefe de delegación: "]
[]
["Zelte / Tents / Tentes / Tiendas"]
[]
["Aufenthaltsdauer / Duration of stay / Durée du séjour / Duración de la estancia  "]
["Anreisedatum / Arrival date / Date d'arrivée / Fecha de llegada"]
["Abreisedatum / Departure date / Date de départ / Fecha de salida"]
[]
["Vegetarisch / Vegetarian / Végétarien / Vegetariano ",{"$f":"COUNTA(' Personal data'!P13:P42,' Personal data'!P56:P255)","v":0}]
["Vegan / Vegan / Végétalien / Vegano ",{"$f":"COUNTA(' Personal data'!Q13:Q42,' Personal data'!Q56:Q255)","v":0}]
["Fleisch / Meat / Viande / Carne ",{"$f":"COUNTA(' Personal data'!N13:N42,' Personal data'!N56:N255)","v":0}]
["Kein Schweinefleisch / No pork / Pas de porc / Sin cerdo",{"$f":"COUNTA(' Personal data'!O13:O42,' Personal data'!O56:O255)","v":0}]
[]
["Kombinierte Unverträglichkeiten / Combined intolerances / Intolérances combinées / Intolerancias combinadas"]